BEGIN:VCALENDAR
VERSION:2.0
PRODID:-//City Star Brewing - ECPv6.15.20//NONSGML v1.0//EN
CALSCALE:GREGORIAN
METHOD:PUBLISH
X-ORIGINAL-URL:https://citystarbrewing.com
X-WR-CALDESC:Events for City Star Brewing
REFRESH-INTERVAL;VALUE=DURATION:PT1H
X-Robots-Tag:noindex
X-PUBLISHED-TTL:PT1H
BEGIN:VTIMEZONE
TZID:America/Denver
BEGIN:DAYLIGHT
TZOFFSETFROM:-0700
TZOFFSETTO:-0600
TZNAME:MDT
DTSTART:20190310T090000
END:DAYLIGHT
BEGIN:STANDARD
TZOFFSETFROM:-0600
TZOFFSETTO:-0700
TZNAME:MST
DTSTART:20191103T080000
END:STANDARD
BEGIN:DAYLIGHT
TZOFFSETFROM:-0700
TZOFFSETTO:-0600
TZNAME:MDT
DTSTART:20200308T090000
END:DAYLIGHT
BEGIN:STANDARD
TZOFFSETFROM:-0600
TZOFFSETTO:-0700
TZNAME:MST
DTSTART:20201101T080000
END:STANDARD
BEGIN:DAYLIGHT
TZOFFSETFROM:-0700
TZOFFSETTO:-0600
TZNAME:MDT
DTSTART:20210314T090000
END:DAYLIGHT
BEGIN:STANDARD
TZOFFSETFROM:-0600
TZOFFSETTO:-0700
TZNAME:MST
DTSTART:20211107T080000
END:STANDARD
END:VTIMEZONE
BEGIN:VEVENT
DTSTART;TZID=America/Denver:20200301T110000
DTEND;TZID=America/Denver:20200301T180000
DTSTAMP:20260425T183549
CREATED:20190119T235551Z
LAST-MODIFIED:20200326T025059Z
UID:10000180-1583060400-1583085600@citystarbrewing.com
SUMMARY:Hops and Harley
DESCRIPTION:Join us Saturday\, June 20th for the 8th Annual Hops and Harley at Fickel Park in downtown Berthoud\, CO 11am-6pm. This dog friendly community festival benefits Harley’s Dream and features craft beer\, live music\, food trucks\, dog agility\, vendors\, kids activities\, and much more! \nClick for additional details.
URL:https://citystarbrewing.com/event/hops-and-harley/
LOCATION:Fickel Park\, 620 Mountain Avenue\, Berthoud\, CO\, 80513\, United States
CATEGORIES:Events,Taproom Events
ATTACH;FMTTYPE=image/jpeg:https://citystarbrewing.com/wp-content/uploads/2019/01/hopsandharleyfb.jpg
END:VEVENT
BEGIN:VEVENT
DTSTART;TZID=America/Denver:20200301T170000
DTEND;TZID=America/Denver:20200301T200000
DTSTAMP:20260425T183549
CREATED:20190731T212720Z
LAST-MODIFIED:20191014T194901Z
UID:10000426-1583082000-1583092800@citystarbrewing.com
SUMMARY:Summit Tacos
DESCRIPTION:Summit Tacos proudly serves authentic Mexican food and they love to share our passion for our food and our culture. Visit at 237 Collyer Street in Longmont and select food truck pop-ups. \nhttps://eatsummittacos.com
URL:https://citystarbrewing.com/event/summit-tacos/2020-03-01/
LOCATION:321 Mountain Avenue\, Berthoud\, CO\, 80513\, United States
CATEGORIES:Events,Food Trucks
ATTACH;FMTTYPE=image/png:https://citystarbrewing.com/wp-content/uploads/2017/05/summittacos.png
END:VEVENT
BEGIN:VEVENT
DTSTART;TZID=America/Denver:20200302T170000
DTEND;TZID=America/Denver:20200302T200000
DTSTAMP:20260425T183549
CREATED:20190731T212720Z
LAST-MODIFIED:20191014T194901Z
UID:10000427-1583168400-1583179200@citystarbrewing.com
SUMMARY:Summit Tacos
DESCRIPTION:Summit Tacos proudly serves authentic Mexican food and they love to share our passion for our food and our culture. Visit at 237 Collyer Street in Longmont and select food truck pop-ups. \nhttps://eatsummittacos.com
URL:https://citystarbrewing.com/event/summit-tacos/2020-03-02/
LOCATION:321 Mountain Avenue\, Berthoud\, CO\, 80513\, United States
CATEGORIES:Events,Food Trucks
ATTACH;FMTTYPE=image/png:https://citystarbrewing.com/wp-content/uploads/2017/05/summittacos.png
END:VEVENT
BEGIN:VEVENT
DTSTART;TZID=America/Denver:20200303T170000
DTEND;TZID=America/Denver:20200303T200000
DTSTAMP:20260425T183549
CREATED:20190731T212720Z
LAST-MODIFIED:20191014T194901Z
UID:10000428-1583254800-1583265600@citystarbrewing.com
SUMMARY:Summit Tacos
DESCRIPTION:Summit Tacos proudly serves authentic Mexican food and they love to share our passion for our food and our culture. Visit at 237 Collyer Street in Longmont and select food truck pop-ups. \nhttps://eatsummittacos.com
URL:https://citystarbrewing.com/event/summit-tacos/2020-03-03/
LOCATION:321 Mountain Avenue\, Berthoud\, CO\, 80513\, United States
CATEGORIES:Events,Food Trucks
ATTACH;FMTTYPE=image/png:https://citystarbrewing.com/wp-content/uploads/2017/05/summittacos.png
END:VEVENT
BEGIN:VEVENT
DTSTART;TZID=America/Denver:20200303T183000
DTEND;TZID=America/Denver:20200303T200000
DTSTAMP:20260425T183549
CREATED:20200213T024732Z
LAST-MODIFIED:20200213T152003Z
UID:10001365-1583260200-1583265600@citystarbrewing.com
SUMMARY:Beer School: Field Trip to Root Shoot
DESCRIPTION:Join us for a special field trip to Root Shoot Malting for a tour of the malt house. RSVP buy signing up for a free ticket through Eventbrite: https://www.eventbrite.com/e/beer-school-field-trip-to-root-shoot-tickets-94650651647  Closer to the field trip we’ll reach out to attendees with directions to the malt house (transportation not included).\n\nLearn more about Root Shoot’s high quality local grain and craft malt at www.rootshootmalting.com.\n\n\n \n\n\nAbout Beer School….\n\n\nBeer School is in session the first Tuesday monthly in City Star Brewing’s Zoller Barrel House; it’s a social group to connect Berthoud area beer enthusiasts with an emphasis on beer ingredients\, beer styles and knowledge\, home brewing\, and any topic that takes you beyond the pint in front of you. Join the Berthoud Beer School Facebook group to connect virtually!\n\n\n\n\n\nBeer School includes public presentations with unique topics and guest speakers to appeal to beer lovers\, home brewers\, pro brewers\, and even just curious community members. There will be a private homebrew share tasting for those interested at 7:30pm\, to follow the presentation.
URL:https://citystarbrewing.com/event/beer-school-field-trip-to-root-shoot/
LOCATION:321 Mountain Avenue\, Berthoud\, CO\, 80513\, United States
CATEGORIES:Events,Taproom Events
ATTACH;FMTTYPE=image/jpeg:https://citystarbrewing.com/wp-content/uploads/2020/02/emily-root-shoot-van-scaled-e1581561983893.jpg
END:VEVENT
BEGIN:VEVENT
DTSTART;TZID=America/Denver:20200304T170000
DTEND;TZID=America/Denver:20200304T200000
DTSTAMP:20260425T183549
CREATED:20190731T212720Z
LAST-MODIFIED:20191014T194901Z
UID:10000429-1583341200-1583352000@citystarbrewing.com
SUMMARY:Summit Tacos
DESCRIPTION:Summit Tacos proudly serves authentic Mexican food and they love to share our passion for our food and our culture. Visit at 237 Collyer Street in Longmont and select food truck pop-ups. \nhttps://eatsummittacos.com
URL:https://citystarbrewing.com/event/summit-tacos/2020-03-04/
LOCATION:321 Mountain Avenue\, Berthoud\, CO\, 80513\, United States
CATEGORIES:Events,Food Trucks
ATTACH;FMTTYPE=image/png:https://citystarbrewing.com/wp-content/uploads/2017/05/summittacos.png
END:VEVENT
BEGIN:VEVENT
DTSTART;TZID=America/Denver:20200305T170000
DTEND;TZID=America/Denver:20200305T200000
DTSTAMP:20260425T183549
CREATED:20190731T212720Z
LAST-MODIFIED:20191014T194901Z
UID:10000430-1583427600-1583438400@citystarbrewing.com
SUMMARY:Summit Tacos
DESCRIPTION:Summit Tacos proudly serves authentic Mexican food and they love to share our passion for our food and our culture. Visit at 237 Collyer Street in Longmont and select food truck pop-ups. \nhttps://eatsummittacos.com
URL:https://citystarbrewing.com/event/summit-tacos/2020-03-05/
LOCATION:321 Mountain Avenue\, Berthoud\, CO\, 80513\, United States
CATEGORIES:Events,Food Trucks
ATTACH;FMTTYPE=image/png:https://citystarbrewing.com/wp-content/uploads/2017/05/summittacos.png
END:VEVENT
BEGIN:VEVENT
DTSTART;TZID=America/Denver:20200305T180000
DTEND;TZID=America/Denver:20200305T203000
DTSTAMP:20260425T183549
CREATED:20210628T160904Z
LAST-MODIFIED:20220705T213139Z
UID:10001694-1583431200-1583440200@citystarbrewing.com
SUMMARY:Matt McCloskey
DESCRIPTION:
URL:https://citystarbrewing.com/event/matt-mccloskey/2020-03-05/
LOCATION:CO
CATEGORIES:Events,Live Music
ATTACH;FMTTYPE=image/png:https://citystarbrewing.com/wp-content/uploads/2021/06/mattmcloskey.png
END:VEVENT
BEGIN:VEVENT
DTSTART;TZID=America/Denver:20200306T170000
DTEND;TZID=America/Denver:20200306T200000
DTSTAMP:20260425T183549
CREATED:20190731T212720Z
LAST-MODIFIED:20191014T194901Z
UID:10000431-1583514000-1583524800@citystarbrewing.com
SUMMARY:Summit Tacos
DESCRIPTION:Summit Tacos proudly serves authentic Mexican food and they love to share our passion for our food and our culture. Visit at 237 Collyer Street in Longmont and select food truck pop-ups. \nhttps://eatsummittacos.com
URL:https://citystarbrewing.com/event/summit-tacos/2020-03-06/
LOCATION:321 Mountain Avenue\, Berthoud\, CO\, 80513\, United States
CATEGORIES:Events,Food Trucks
ATTACH;FMTTYPE=image/png:https://citystarbrewing.com/wp-content/uploads/2017/05/summittacos.png
END:VEVENT
BEGIN:VEVENT
DTSTART;TZID=America/Denver:20200308T170000
DTEND;TZID=America/Denver:20200308T200000
DTSTAMP:20260425T183549
CREATED:20190731T212720Z
LAST-MODIFIED:20191014T194901Z
UID:10000432-1583686800-1583697600@citystarbrewing.com
SUMMARY:Summit Tacos
DESCRIPTION:Summit Tacos proudly serves authentic Mexican food and they love to share our passion for our food and our culture. Visit at 237 Collyer Street in Longmont and select food truck pop-ups. \nhttps://eatsummittacos.com
URL:https://citystarbrewing.com/event/summit-tacos/2020-03-08/
LOCATION:321 Mountain Avenue\, Berthoud\, CO\, 80513\, United States
CATEGORIES:Events,Food Trucks
ATTACH;FMTTYPE=image/png:https://citystarbrewing.com/wp-content/uploads/2017/05/summittacos.png
END:VEVENT
BEGIN:VEVENT
DTSTART;TZID=America/Denver:20200309T170000
DTEND;TZID=America/Denver:20200309T200000
DTSTAMP:20260425T183549
CREATED:20190731T212720Z
LAST-MODIFIED:20191014T194901Z
UID:10000433-1583773200-1583784000@citystarbrewing.com
SUMMARY:Summit Tacos
DESCRIPTION:Summit Tacos proudly serves authentic Mexican food and they love to share our passion for our food and our culture. Visit at 237 Collyer Street in Longmont and select food truck pop-ups. \nhttps://eatsummittacos.com
URL:https://citystarbrewing.com/event/summit-tacos/2020-03-09/
LOCATION:321 Mountain Avenue\, Berthoud\, CO\, 80513\, United States
CATEGORIES:Events,Food Trucks
ATTACH;FMTTYPE=image/png:https://citystarbrewing.com/wp-content/uploads/2017/05/summittacos.png
END:VEVENT
BEGIN:VEVENT
DTSTART;TZID=America/Denver:20200310T170000
DTEND;TZID=America/Denver:20200310T200000
DTSTAMP:20260425T183549
CREATED:20190731T212720Z
LAST-MODIFIED:20191014T194901Z
UID:10000434-1583859600-1583870400@citystarbrewing.com
SUMMARY:Summit Tacos
DESCRIPTION:Summit Tacos proudly serves authentic Mexican food and they love to share our passion for our food and our culture. Visit at 237 Collyer Street in Longmont and select food truck pop-ups. \nhttps://eatsummittacos.com
URL:https://citystarbrewing.com/event/summit-tacos/2020-03-10/
LOCATION:321 Mountain Avenue\, Berthoud\, CO\, 80513\, United States
CATEGORIES:Events,Food Trucks
ATTACH;FMTTYPE=image/png:https://citystarbrewing.com/wp-content/uploads/2017/05/summittacos.png
END:VEVENT
BEGIN:VEVENT
DTSTART;TZID=America/Denver:20200311T170000
DTEND;TZID=America/Denver:20200311T200000
DTSTAMP:20260425T183549
CREATED:20190731T212720Z
LAST-MODIFIED:20191014T194901Z
UID:10000435-1583946000-1583956800@citystarbrewing.com
SUMMARY:Summit Tacos
DESCRIPTION:Summit Tacos proudly serves authentic Mexican food and they love to share our passion for our food and our culture. Visit at 237 Collyer Street in Longmont and select food truck pop-ups. \nhttps://eatsummittacos.com
URL:https://citystarbrewing.com/event/summit-tacos/2020-03-11/
LOCATION:321 Mountain Avenue\, Berthoud\, CO\, 80513\, United States
CATEGORIES:Events,Food Trucks
ATTACH;FMTTYPE=image/png:https://citystarbrewing.com/wp-content/uploads/2017/05/summittacos.png
END:VEVENT
BEGIN:VEVENT
DTSTART;TZID=America/Denver:20200311T180000
DTEND;TZID=America/Denver:20200311T203000
DTSTAMP:20260425T183549
CREATED:20200212T000352Z
LAST-MODIFIED:20200309T032833Z
UID:10001392-1583949600-1583958600@citystarbrewing.com
SUMMARY:Beer Dinner with Juli y Juan
DESCRIPTION:Juli y Juan’s Kitchen returns for a collaboration with City Star Brewing for an intimate Mexican Winter Dinner and Craft Beer Pairing. Juli and Juan are so passionate about their art you can actually taste the love! The exceptional creative fusion cuisine they design is further elevated by Juli y Juan’s infectious passion\, energy\, and love for what they do. \nThe four course beer dinner will be expertly paired with 4 City Star beers. Tickets are $50 (plus tax and tip) and available for reservation by completing the form below. This unforgettable dinner experience will be held in our Zoller Barrel House and the adjacent Great Room at 6pm. \nVisit https://www.flipsnack.com/jarp80/mexicanwinterdinner/full-view.html to view an interactive dinner menu and learn more about Juli y Juan \nSOLD OUT\nIf you have a reservation and your plans have changed please email whitney@citystarbrewing.com. Thank you! \n 
URL:https://citystarbrewing.com/event/mexican-dinner-with-juli-y-juan/
LOCATION:321 Mountain Avenue\, Berthoud\, CO\, 80513\, United States
CATEGORIES:Events,Food Trucks,Taproom Events
ATTACH;FMTTYPE=image/png:https://citystarbrewing.com/wp-content/uploads/2020/02/MexicanWinterDinner-juliyjuan-e1581465796973.png
END:VEVENT
BEGIN:VEVENT
DTSTART;TZID=America/Denver:20200312T170000
DTEND;TZID=America/Denver:20200312T200000
DTSTAMP:20260425T183549
CREATED:20190731T212720Z
LAST-MODIFIED:20191014T194901Z
UID:10000436-1584032400-1584043200@citystarbrewing.com
SUMMARY:Summit Tacos
DESCRIPTION:Summit Tacos proudly serves authentic Mexican food and they love to share our passion for our food and our culture. Visit at 237 Collyer Street in Longmont and select food truck pop-ups. \nhttps://eatsummittacos.com
URL:https://citystarbrewing.com/event/summit-tacos/2020-03-12/
LOCATION:321 Mountain Avenue\, Berthoud\, CO\, 80513\, United States
CATEGORIES:Events,Food Trucks
ATTACH;FMTTYPE=image/png:https://citystarbrewing.com/wp-content/uploads/2017/05/summittacos.png
END:VEVENT
BEGIN:VEVENT
DTSTART;TZID=America/Denver:20200313T170000
DTEND;TZID=America/Denver:20200313T200000
DTSTAMP:20260425T183549
CREATED:20190731T212720Z
LAST-MODIFIED:20191014T194901Z
UID:10000437-1584118800-1584129600@citystarbrewing.com
SUMMARY:Summit Tacos
DESCRIPTION:Summit Tacos proudly serves authentic Mexican food and they love to share our passion for our food and our culture. Visit at 237 Collyer Street in Longmont and select food truck pop-ups. \nhttps://eatsummittacos.com
URL:https://citystarbrewing.com/event/summit-tacos/2020-03-13/
LOCATION:321 Mountain Avenue\, Berthoud\, CO\, 80513\, United States
CATEGORIES:Events,Food Trucks
ATTACH;FMTTYPE=image/png:https://citystarbrewing.com/wp-content/uploads/2017/05/summittacos.png
END:VEVENT
BEGIN:VEVENT
DTSTART;TZID=America/Denver:20200314T170000
DTEND;TZID=America/Denver:20200314T200000
DTSTAMP:20260425T183549
CREATED:20190731T212720Z
LAST-MODIFIED:20191014T194901Z
UID:10000438-1584205200-1584216000@citystarbrewing.com
SUMMARY:Summit Tacos
DESCRIPTION:Summit Tacos proudly serves authentic Mexican food and they love to share our passion for our food and our culture. Visit at 237 Collyer Street in Longmont and select food truck pop-ups. \nhttps://eatsummittacos.com
URL:https://citystarbrewing.com/event/summit-tacos/2020-03-14/
LOCATION:321 Mountain Avenue\, Berthoud\, CO\, 80513\, United States
CATEGORIES:Events,Food Trucks
ATTACH;FMTTYPE=image/png:https://citystarbrewing.com/wp-content/uploads/2017/05/summittacos.png
END:VEVENT
BEGIN:VEVENT
DTSTART;TZID=America/Denver:20200315T170000
DTEND;TZID=America/Denver:20200315T200000
DTSTAMP:20260425T183549
CREATED:20190731T212720Z
LAST-MODIFIED:20191014T194901Z
UID:10000439-1584291600-1584302400@citystarbrewing.com
SUMMARY:Summit Tacos
DESCRIPTION:Summit Tacos proudly serves authentic Mexican food and they love to share our passion for our food and our culture. Visit at 237 Collyer Street in Longmont and select food truck pop-ups. \nhttps://eatsummittacos.com
URL:https://citystarbrewing.com/event/summit-tacos/2020-03-15/
LOCATION:321 Mountain Avenue\, Berthoud\, CO\, 80513\, United States
CATEGORIES:Events,Food Trucks
ATTACH;FMTTYPE=image/png:https://citystarbrewing.com/wp-content/uploads/2017/05/summittacos.png
END:VEVENT
BEGIN:VEVENT
DTSTART;TZID=America/Denver:20200316T170000
DTEND;TZID=America/Denver:20200316T200000
DTSTAMP:20260425T183549
CREATED:20190731T212720Z
LAST-MODIFIED:20191014T194901Z
UID:10000440-1584378000-1584388800@citystarbrewing.com
SUMMARY:Summit Tacos
DESCRIPTION:Summit Tacos proudly serves authentic Mexican food and they love to share our passion for our food and our culture. Visit at 237 Collyer Street in Longmont and select food truck pop-ups. \nhttps://eatsummittacos.com
URL:https://citystarbrewing.com/event/summit-tacos/2020-03-16/
LOCATION:321 Mountain Avenue\, Berthoud\, CO\, 80513\, United States
CATEGORIES:Events,Food Trucks
ATTACH;FMTTYPE=image/png:https://citystarbrewing.com/wp-content/uploads/2017/05/summittacos.png
END:VEVENT
BEGIN:VEVENT
DTSTART;TZID=America/Denver:20200317T170000
DTEND;TZID=America/Denver:20200317T200000
DTSTAMP:20260425T183549
CREATED:20190731T212720Z
LAST-MODIFIED:20191014T194901Z
UID:10000441-1584464400-1584475200@citystarbrewing.com
SUMMARY:Summit Tacos
DESCRIPTION:Summit Tacos proudly serves authentic Mexican food and they love to share our passion for our food and our culture. Visit at 237 Collyer Street in Longmont and select food truck pop-ups. \nhttps://eatsummittacos.com
URL:https://citystarbrewing.com/event/summit-tacos/2020-03-17/
LOCATION:321 Mountain Avenue\, Berthoud\, CO\, 80513\, United States
CATEGORIES:Events,Food Trucks
ATTACH;FMTTYPE=image/png:https://citystarbrewing.com/wp-content/uploads/2017/05/summittacos.png
END:VEVENT
BEGIN:VEVENT
DTSTART;TZID=America/Denver:20200318T170000
DTEND;TZID=America/Denver:20200318T200000
DTSTAMP:20260425T183549
CREATED:20190731T212720Z
LAST-MODIFIED:20191014T194901Z
UID:10000442-1584550800-1584561600@citystarbrewing.com
SUMMARY:Summit Tacos
DESCRIPTION:Summit Tacos proudly serves authentic Mexican food and they love to share our passion for our food and our culture. Visit at 237 Collyer Street in Longmont and select food truck pop-ups. \nhttps://eatsummittacos.com
URL:https://citystarbrewing.com/event/summit-tacos/2020-03-18/
LOCATION:321 Mountain Avenue\, Berthoud\, CO\, 80513\, United States
CATEGORIES:Events,Food Trucks
ATTACH;FMTTYPE=image/png:https://citystarbrewing.com/wp-content/uploads/2017/05/summittacos.png
END:VEVENT
BEGIN:VEVENT
DTSTART;TZID=America/Denver:20200319T170000
DTEND;TZID=America/Denver:20200319T200000
DTSTAMP:20260425T183549
CREATED:20190731T212720Z
LAST-MODIFIED:20191014T194901Z
UID:10000443-1584637200-1584648000@citystarbrewing.com
SUMMARY:Summit Tacos
DESCRIPTION:Summit Tacos proudly serves authentic Mexican food and they love to share our passion for our food and our culture. Visit at 237 Collyer Street in Longmont and select food truck pop-ups. \nhttps://eatsummittacos.com
URL:https://citystarbrewing.com/event/summit-tacos/2020-03-19/
LOCATION:321 Mountain Avenue\, Berthoud\, CO\, 80513\, United States
CATEGORIES:Events,Food Trucks
ATTACH;FMTTYPE=image/png:https://citystarbrewing.com/wp-content/uploads/2017/05/summittacos.png
END:VEVENT
BEGIN:VEVENT
DTSTART;TZID=America/Denver:20200320T170000
DTEND;TZID=America/Denver:20200320T200000
DTSTAMP:20260425T183549
CREATED:20190731T212720Z
LAST-MODIFIED:20191014T194901Z
UID:10000444-1584723600-1584734400@citystarbrewing.com
SUMMARY:Summit Tacos
DESCRIPTION:Summit Tacos proudly serves authentic Mexican food and they love to share our passion for our food and our culture. Visit at 237 Collyer Street in Longmont and select food truck pop-ups. \nhttps://eatsummittacos.com
URL:https://citystarbrewing.com/event/summit-tacos/2020-03-20/
LOCATION:321 Mountain Avenue\, Berthoud\, CO\, 80513\, United States
CATEGORIES:Events,Food Trucks
ATTACH;FMTTYPE=image/png:https://citystarbrewing.com/wp-content/uploads/2017/05/summittacos.png
END:VEVENT
BEGIN:VEVENT
DTSTART;TZID=America/Denver:20200321T170000
DTEND;TZID=America/Denver:20200321T200000
DTSTAMP:20260425T183549
CREATED:20190731T212720Z
LAST-MODIFIED:20191014T194901Z
UID:10000445-1584810000-1584820800@citystarbrewing.com
SUMMARY:Summit Tacos
DESCRIPTION:Summit Tacos proudly serves authentic Mexican food and they love to share our passion for our food and our culture. Visit at 237 Collyer Street in Longmont and select food truck pop-ups. \nhttps://eatsummittacos.com
URL:https://citystarbrewing.com/event/summit-tacos/2020-03-21/
LOCATION:321 Mountain Avenue\, Berthoud\, CO\, 80513\, United States
CATEGORIES:Events,Food Trucks
ATTACH;FMTTYPE=image/png:https://citystarbrewing.com/wp-content/uploads/2017/05/summittacos.png
END:VEVENT
BEGIN:VEVENT
DTSTART;TZID=America/Denver:20200322T170000
DTEND;TZID=America/Denver:20200322T200000
DTSTAMP:20260425T183549
CREATED:20190731T212720Z
LAST-MODIFIED:20191014T194901Z
UID:10000446-1584896400-1584907200@citystarbrewing.com
SUMMARY:Summit Tacos
DESCRIPTION:Summit Tacos proudly serves authentic Mexican food and they love to share our passion for our food and our culture. Visit at 237 Collyer Street in Longmont and select food truck pop-ups. \nhttps://eatsummittacos.com
URL:https://citystarbrewing.com/event/summit-tacos/2020-03-22/
LOCATION:321 Mountain Avenue\, Berthoud\, CO\, 80513\, United States
CATEGORIES:Events,Food Trucks
ATTACH;FMTTYPE=image/png:https://citystarbrewing.com/wp-content/uploads/2017/05/summittacos.png
END:VEVENT
BEGIN:VEVENT
DTSTART;TZID=America/Denver:20200323T170000
DTEND;TZID=America/Denver:20200323T200000
DTSTAMP:20260425T183549
CREATED:20190731T212720Z
LAST-MODIFIED:20191014T194901Z
UID:10000447-1584982800-1584993600@citystarbrewing.com
SUMMARY:Summit Tacos
DESCRIPTION:Summit Tacos proudly serves authentic Mexican food and they love to share our passion for our food and our culture. Visit at 237 Collyer Street in Longmont and select food truck pop-ups. \nhttps://eatsummittacos.com
URL:https://citystarbrewing.com/event/summit-tacos/2020-03-23/
LOCATION:321 Mountain Avenue\, Berthoud\, CO\, 80513\, United States
CATEGORIES:Events,Food Trucks
ATTACH;FMTTYPE=image/png:https://citystarbrewing.com/wp-content/uploads/2017/05/summittacos.png
END:VEVENT
BEGIN:VEVENT
DTSTART;TZID=America/Denver:20200324T170000
DTEND;TZID=America/Denver:20200324T200000
DTSTAMP:20260425T183549
CREATED:20190731T212720Z
LAST-MODIFIED:20191014T194901Z
UID:10000448-1585069200-1585080000@citystarbrewing.com
SUMMARY:Summit Tacos
DESCRIPTION:Summit Tacos proudly serves authentic Mexican food and they love to share our passion for our food and our culture. Visit at 237 Collyer Street in Longmont and select food truck pop-ups. \nhttps://eatsummittacos.com
URL:https://citystarbrewing.com/event/summit-tacos/2020-03-24/
LOCATION:321 Mountain Avenue\, Berthoud\, CO\, 80513\, United States
CATEGORIES:Events,Food Trucks
ATTACH;FMTTYPE=image/png:https://citystarbrewing.com/wp-content/uploads/2017/05/summittacos.png
END:VEVENT
BEGIN:VEVENT
DTSTART;TZID=America/Denver:20200325T170000
DTEND;TZID=America/Denver:20200325T200000
DTSTAMP:20260425T183549
CREATED:20190731T212720Z
LAST-MODIFIED:20191014T194901Z
UID:10000449-1585155600-1585166400@citystarbrewing.com
SUMMARY:Summit Tacos
DESCRIPTION:Summit Tacos proudly serves authentic Mexican food and they love to share our passion for our food and our culture. Visit at 237 Collyer Street in Longmont and select food truck pop-ups. \nhttps://eatsummittacos.com
URL:https://citystarbrewing.com/event/summit-tacos/2020-03-25/
LOCATION:321 Mountain Avenue\, Berthoud\, CO\, 80513\, United States
CATEGORIES:Events,Food Trucks
ATTACH;FMTTYPE=image/png:https://citystarbrewing.com/wp-content/uploads/2017/05/summittacos.png
END:VEVENT
BEGIN:VEVENT
DTSTART;TZID=America/Denver:20200326T170000
DTEND;TZID=America/Denver:20200326T200000
DTSTAMP:20260425T183549
CREATED:20190731T212720Z
LAST-MODIFIED:20191014T194901Z
UID:10000450-1585242000-1585252800@citystarbrewing.com
SUMMARY:Summit Tacos
DESCRIPTION:Summit Tacos proudly serves authentic Mexican food and they love to share our passion for our food and our culture. Visit at 237 Collyer Street in Longmont and select food truck pop-ups. \nhttps://eatsummittacos.com
URL:https://citystarbrewing.com/event/summit-tacos/2020-03-26/
LOCATION:321 Mountain Avenue\, Berthoud\, CO\, 80513\, United States
CATEGORIES:Events,Food Trucks
ATTACH;FMTTYPE=image/png:https://citystarbrewing.com/wp-content/uploads/2017/05/summittacos.png
END:VEVENT
BEGIN:VEVENT
DTSTART;TZID=America/Denver:20200327T170000
DTEND;TZID=America/Denver:20200327T200000
DTSTAMP:20260425T183549
CREATED:20190731T212720Z
LAST-MODIFIED:20191014T194901Z
UID:10000451-1585328400-1585339200@citystarbrewing.com
SUMMARY:Summit Tacos
DESCRIPTION:Summit Tacos proudly serves authentic Mexican food and they love to share our passion for our food and our culture. Visit at 237 Collyer Street in Longmont and select food truck pop-ups. \nhttps://eatsummittacos.com
URL:https://citystarbrewing.com/event/summit-tacos/2020-03-27/
LOCATION:321 Mountain Avenue\, Berthoud\, CO\, 80513\, United States
CATEGORIES:Events,Food Trucks
ATTACH;FMTTYPE=image/png:https://citystarbrewing.com/wp-content/uploads/2017/05/summittacos.png
END:VEVENT
END:VCALENDAR