BEGIN:VCALENDAR
VERSION:2.0
PRODID:-//City Star Brewing - ECPv6.15.20//NONSGML v1.0//EN
CALSCALE:GREGORIAN
METHOD:PUBLISH
X-ORIGINAL-URL:https://citystarbrewing.com
X-WR-CALDESC:Events for City Star Brewing
REFRESH-INTERVAL;VALUE=DURATION:PT1H
X-Robots-Tag:noindex
X-PUBLISHED-TTL:PT1H
BEGIN:VTIMEZONE
TZID:America/Denver
BEGIN:DAYLIGHT
TZOFFSETFROM:-0700
TZOFFSETTO:-0600
TZNAME:MDT
DTSTART:20190310T090000
END:DAYLIGHT
BEGIN:STANDARD
TZOFFSETFROM:-0600
TZOFFSETTO:-0700
TZNAME:MST
DTSTART:20191103T080000
END:STANDARD
BEGIN:DAYLIGHT
TZOFFSETFROM:-0700
TZOFFSETTO:-0600
TZNAME:MDT
DTSTART:20200308T090000
END:DAYLIGHT
BEGIN:STANDARD
TZOFFSETFROM:-0600
TZOFFSETTO:-0700
TZNAME:MST
DTSTART:20201101T080000
END:STANDARD
BEGIN:DAYLIGHT
TZOFFSETFROM:-0700
TZOFFSETTO:-0600
TZNAME:MDT
DTSTART:20210314T090000
END:DAYLIGHT
BEGIN:STANDARD
TZOFFSETFROM:-0600
TZOFFSETTO:-0700
TZNAME:MST
DTSTART:20211107T080000
END:STANDARD
END:VTIMEZONE
BEGIN:VEVENT
DTSTART;TZID=America/Denver:20200101T120000
DTEND;TZID=America/Denver:20200101T210000
DTSTAMP:20260425T221350
CREATED:20181227T200638Z
LAST-MODIFIED:20211220T171006Z
UID:10000131-1577880000-1577912400@citystarbrewing.com
SUMMARY:Beer Release: Pineapple Hazy IPA
DESCRIPTION:A big hazy IPA dry hopped with azaca hops to impart pleasant mix of tropical fruits kissed with citrus. On the palate it’s particularly spicy\, with mango\, pineapple and some pine and tangerine\, taking you someplace warmer.
URL:https://citystarbrewing.com/event/beer-release-pineapple-ipa/
LOCATION:CO
CATEGORIES:Beer Releases,Events
ATTACH;FMTTYPE=image/png:https://citystarbrewing.com/wp-content/uploads/2018/11/pineapple-ipa-website.png
END:VEVENT
BEGIN:VEVENT
DTSTART;TZID=America/Denver:20200101T170000
DTEND;TZID=America/Denver:20200101T200000
DTSTAMP:20260425T221350
CREATED:20190731T212720Z
LAST-MODIFIED:20191014T194901Z
UID:10000366-1577898000-1577908800@citystarbrewing.com
SUMMARY:Summit Tacos
DESCRIPTION:Summit Tacos proudly serves authentic Mexican food and they love to share our passion for our food and our culture. Visit at 237 Collyer Street in Longmont and select food truck pop-ups. \nhttps://eatsummittacos.com
URL:https://citystarbrewing.com/event/summit-tacos/2020-01-01/
LOCATION:321 Mountain Avenue\, Berthoud\, CO\, 80513\, United States
CATEGORIES:Events,Food Trucks
ATTACH;FMTTYPE=image/png:https://citystarbrewing.com/wp-content/uploads/2017/05/summittacos.png
END:VEVENT
BEGIN:VEVENT
DTSTART;TZID=America/Denver:20200102T170000
DTEND;TZID=America/Denver:20200102T200000
DTSTAMP:20260425T221350
CREATED:20190731T212720Z
LAST-MODIFIED:20191014T194901Z
UID:10000367-1577984400-1577995200@citystarbrewing.com
SUMMARY:Summit Tacos
DESCRIPTION:Summit Tacos proudly serves authentic Mexican food and they love to share our passion for our food and our culture. Visit at 237 Collyer Street in Longmont and select food truck pop-ups. \nhttps://eatsummittacos.com
URL:https://citystarbrewing.com/event/summit-tacos/2020-01-02/
LOCATION:321 Mountain Avenue\, Berthoud\, CO\, 80513\, United States
CATEGORIES:Events,Food Trucks
ATTACH;FMTTYPE=image/png:https://citystarbrewing.com/wp-content/uploads/2017/05/summittacos.png
END:VEVENT
BEGIN:VEVENT
DTSTART;TZID=America/Denver:20200103T170000
DTEND;TZID=America/Denver:20200103T200000
DTSTAMP:20260425T221350
CREATED:20190731T212720Z
LAST-MODIFIED:20191014T194901Z
UID:10000368-1578070800-1578081600@citystarbrewing.com
SUMMARY:Summit Tacos
DESCRIPTION:Summit Tacos proudly serves authentic Mexican food and they love to share our passion for our food and our culture. Visit at 237 Collyer Street in Longmont and select food truck pop-ups. \nhttps://eatsummittacos.com
URL:https://citystarbrewing.com/event/summit-tacos/2020-01-03/
LOCATION:321 Mountain Avenue\, Berthoud\, CO\, 80513\, United States
CATEGORIES:Events,Food Trucks
ATTACH;FMTTYPE=image/png:https://citystarbrewing.com/wp-content/uploads/2017/05/summittacos.png
END:VEVENT
BEGIN:VEVENT
DTSTART;TZID=America/Denver:20200104T170000
DTEND;TZID=America/Denver:20200104T200000
DTSTAMP:20260425T221350
CREATED:20190731T212720Z
LAST-MODIFIED:20191014T194901Z
UID:10000369-1578157200-1578168000@citystarbrewing.com
SUMMARY:Summit Tacos
DESCRIPTION:Summit Tacos proudly serves authentic Mexican food and they love to share our passion for our food and our culture. Visit at 237 Collyer Street in Longmont and select food truck pop-ups. \nhttps://eatsummittacos.com
URL:https://citystarbrewing.com/event/summit-tacos/2020-01-04/
LOCATION:321 Mountain Avenue\, Berthoud\, CO\, 80513\, United States
CATEGORIES:Events,Food Trucks
ATTACH;FMTTYPE=image/png:https://citystarbrewing.com/wp-content/uploads/2017/05/summittacos.png
END:VEVENT
BEGIN:VEVENT
DTSTART;TZID=America/Denver:20200105T170000
DTEND;TZID=America/Denver:20200105T200000
DTSTAMP:20260425T221350
CREATED:20190731T212720Z
LAST-MODIFIED:20191014T194901Z
UID:10000370-1578243600-1578254400@citystarbrewing.com
SUMMARY:Summit Tacos
DESCRIPTION:Summit Tacos proudly serves authentic Mexican food and they love to share our passion for our food and our culture. Visit at 237 Collyer Street in Longmont and select food truck pop-ups. \nhttps://eatsummittacos.com
URL:https://citystarbrewing.com/event/summit-tacos/2020-01-05/
LOCATION:321 Mountain Avenue\, Berthoud\, CO\, 80513\, United States
CATEGORIES:Events,Food Trucks
ATTACH;FMTTYPE=image/png:https://citystarbrewing.com/wp-content/uploads/2017/05/summittacos.png
END:VEVENT
BEGIN:VEVENT
DTSTART;TZID=America/Denver:20200106T170000
DTEND;TZID=America/Denver:20200106T200000
DTSTAMP:20260425T221350
CREATED:20190731T212720Z
LAST-MODIFIED:20191014T194901Z
UID:10000371-1578330000-1578340800@citystarbrewing.com
SUMMARY:Summit Tacos
DESCRIPTION:Summit Tacos proudly serves authentic Mexican food and they love to share our passion for our food and our culture. Visit at 237 Collyer Street in Longmont and select food truck pop-ups. \nhttps://eatsummittacos.com
URL:https://citystarbrewing.com/event/summit-tacos/2020-01-06/
LOCATION:321 Mountain Avenue\, Berthoud\, CO\, 80513\, United States
CATEGORIES:Events,Food Trucks
ATTACH;FMTTYPE=image/png:https://citystarbrewing.com/wp-content/uploads/2017/05/summittacos.png
END:VEVENT
BEGIN:VEVENT
DTSTART;TZID=America/Denver:20200107T170000
DTEND;TZID=America/Denver:20200107T200000
DTSTAMP:20260425T221350
CREATED:20190731T212720Z
LAST-MODIFIED:20191014T194901Z
UID:10000372-1578416400-1578427200@citystarbrewing.com
SUMMARY:Summit Tacos
DESCRIPTION:Summit Tacos proudly serves authentic Mexican food and they love to share our passion for our food and our culture. Visit at 237 Collyer Street in Longmont and select food truck pop-ups. \nhttps://eatsummittacos.com
URL:https://citystarbrewing.com/event/summit-tacos/2020-01-07/
LOCATION:321 Mountain Avenue\, Berthoud\, CO\, 80513\, United States
CATEGORIES:Events,Food Trucks
ATTACH;FMTTYPE=image/png:https://citystarbrewing.com/wp-content/uploads/2017/05/summittacos.png
END:VEVENT
BEGIN:VEVENT
DTSTART;TZID=America/Denver:20200107T183000
DTEND;TZID=America/Denver:20200107T203000
DTSTAMP:20260425T221350
CREATED:20191230T222944Z
LAST-MODIFIED:20191230T222944Z
UID:10001381-1578421800-1578429000@citystarbrewing.com
SUMMARY:Beer School: Grimm Brothers + Historical Beers with Aaron Heaton
DESCRIPTION:Join us for the first Beer School of 2020 to meet Aaron Heaton of Grimm Brothers Brewhouse and discuss historical beer styles.\n\n\n\n\nAaron Heaton is the co-owner of Grimm Brothers Brewhouse in Loveland Colorado. He began his brewing carrer in 2001 as a homebrewer in North Carolina. He missed the great beers of Colorado and with the limit on NC beers he became active with the pop the cap campaign allowing full strength beers into the state. Aaron continued his professional carrier by attending American Brewers Guild in 2005. He moved back to Colorado and interned at Left Hand Brewery and New Belgium. In 2010\, along with Don Chapman\, Aaron started Grimm Brothers Brewhouse\, the oldest active brewery in Loveland. Grimm Brothers specializes in traditional and non-traditional German style beers and have been wining awards since they started. Aaron also has been judging for BJCP since 2007 and at GABF since 2015.\n\n\n\n\n\n\n\nAbout Beer School….\n\n\nBeer School is in session the first Tuesday monthly in City Star Brewing’s Zoller Barrel House; it’s a social group to connect Berthoud area beer enthusiasts with an emphasis on beer ingredients\, beer styles and knowledge\, home brewing\, and any topic that takes you beyond the pint in front of you. Join the Berthoud Beer School Facebook group to connect virtually!\n\n\n\n\n\nBeer School includes public presentations with unique topics and guest speakers to appeal to beer lovers\, home brewers\, pro brewers\, and even just curious community members. There will be a private homebrew share tasting for those interested at 7:30pm\, to follow the presentation.
URL:https://citystarbrewing.com/event/beer-school-grimm-brothers-historical-beers-with-aaron-heaton/
LOCATION:321 Mountain Avenue\, Berthoud\, CO\, 80513\, United States
CATEGORIES:Events,Taproom Events
ATTACH;FMTTYPE=image/png:https://citystarbrewing.com/wp-content/uploads/2019/02/Beer-School-Logo.png
END:VEVENT
BEGIN:VEVENT
DTSTART;TZID=America/Denver:20200108T170000
DTEND;TZID=America/Denver:20200108T200000
DTSTAMP:20260425T221350
CREATED:20190731T212720Z
LAST-MODIFIED:20191014T194901Z
UID:10000373-1578502800-1578513600@citystarbrewing.com
SUMMARY:Summit Tacos
DESCRIPTION:Summit Tacos proudly serves authentic Mexican food and they love to share our passion for our food and our culture. Visit at 237 Collyer Street in Longmont and select food truck pop-ups. \nhttps://eatsummittacos.com
URL:https://citystarbrewing.com/event/summit-tacos/2020-01-08/
LOCATION:321 Mountain Avenue\, Berthoud\, CO\, 80513\, United States
CATEGORIES:Events,Food Trucks
ATTACH;FMTTYPE=image/png:https://citystarbrewing.com/wp-content/uploads/2017/05/summittacos.png
END:VEVENT
BEGIN:VEVENT
DTSTART;TZID=America/Denver:20200109T170000
DTEND;TZID=America/Denver:20200109T200000
DTSTAMP:20260425T221350
CREATED:20190731T212720Z
LAST-MODIFIED:20191014T194901Z
UID:10000374-1578589200-1578600000@citystarbrewing.com
SUMMARY:Summit Tacos
DESCRIPTION:Summit Tacos proudly serves authentic Mexican food and they love to share our passion for our food and our culture. Visit at 237 Collyer Street in Longmont and select food truck pop-ups. \nhttps://eatsummittacos.com
URL:https://citystarbrewing.com/event/summit-tacos/2020-01-09/
LOCATION:321 Mountain Avenue\, Berthoud\, CO\, 80513\, United States
CATEGORIES:Events,Food Trucks
ATTACH;FMTTYPE=image/png:https://citystarbrewing.com/wp-content/uploads/2017/05/summittacos.png
END:VEVENT
BEGIN:VEVENT
DTSTART;TZID=America/Denver:20200110T170000
DTEND;TZID=America/Denver:20200110T200000
DTSTAMP:20260425T221350
CREATED:20190731T212720Z
LAST-MODIFIED:20191014T194901Z
UID:10000375-1578675600-1578686400@citystarbrewing.com
SUMMARY:Summit Tacos
DESCRIPTION:Summit Tacos proudly serves authentic Mexican food and they love to share our passion for our food and our culture. Visit at 237 Collyer Street in Longmont and select food truck pop-ups. \nhttps://eatsummittacos.com
URL:https://citystarbrewing.com/event/summit-tacos/2020-01-10/
LOCATION:321 Mountain Avenue\, Berthoud\, CO\, 80513\, United States
CATEGORIES:Events,Food Trucks
ATTACH;FMTTYPE=image/png:https://citystarbrewing.com/wp-content/uploads/2017/05/summittacos.png
END:VEVENT
BEGIN:VEVENT
DTSTART;TZID=America/Denver:20200111T170000
DTEND;TZID=America/Denver:20200111T200000
DTSTAMP:20260425T221350
CREATED:20190731T212720Z
LAST-MODIFIED:20191014T194901Z
UID:10000376-1578762000-1578772800@citystarbrewing.com
SUMMARY:Summit Tacos
DESCRIPTION:Summit Tacos proudly serves authentic Mexican food and they love to share our passion for our food and our culture. Visit at 237 Collyer Street in Longmont and select food truck pop-ups. \nhttps://eatsummittacos.com
URL:https://citystarbrewing.com/event/summit-tacos/2020-01-11/
LOCATION:321 Mountain Avenue\, Berthoud\, CO\, 80513\, United States
CATEGORIES:Events,Food Trucks
ATTACH;FMTTYPE=image/png:https://citystarbrewing.com/wp-content/uploads/2017/05/summittacos.png
END:VEVENT
BEGIN:VEVENT
DTSTART;TZID=America/Denver:20200111T190000
DTEND;TZID=America/Denver:20200111T213000
DTSTAMP:20260425T221350
CREATED:20190108T201449Z
LAST-MODIFIED:20191215T212944Z
UID:10000126-1578769200-1578778200@citystarbrewing.com
SUMMARY:Follow The Fox
DESCRIPTION:Follow the Fox is what happens when Sarah Cole and Dylan McCarthy join creative forces to create honest acoustic music. Occasionally joined by a myriad of talented friends\, Follow the Fox is centered around the captivating songwriting and passionate performances of these two artists based out of Lyons\, Colorado. Anywhere from heart-breaking ballads to hard-hitting bluegrass tunes\, their spell-binding harmonies and thoughtful arrangements give them a sound all their own. Come see them in person and follow the fox\, wherever it may go…. \nhttps://followthefoxband.com/
URL:https://citystarbrewing.com/event/follow-the-fox/
LOCATION:321 Mountain Avenue\, Berthoud\, CO\, 80513\, United States
CATEGORIES:Events,Live Music
ATTACH;FMTTYPE=image/jpeg:https://citystarbrewing.com/wp-content/uploads/2019/01/followthefox.jpg
END:VEVENT
BEGIN:VEVENT
DTSTART;TZID=America/Denver:20200112T170000
DTEND;TZID=America/Denver:20200112T200000
DTSTAMP:20260425T221350
CREATED:20190731T212720Z
LAST-MODIFIED:20191014T194901Z
UID:10000377-1578848400-1578859200@citystarbrewing.com
SUMMARY:Summit Tacos
DESCRIPTION:Summit Tacos proudly serves authentic Mexican food and they love to share our passion for our food and our culture. Visit at 237 Collyer Street in Longmont and select food truck pop-ups. \nhttps://eatsummittacos.com
URL:https://citystarbrewing.com/event/summit-tacos/2020-01-12/
LOCATION:321 Mountain Avenue\, Berthoud\, CO\, 80513\, United States
CATEGORIES:Events,Food Trucks
ATTACH;FMTTYPE=image/png:https://citystarbrewing.com/wp-content/uploads/2017/05/summittacos.png
END:VEVENT
BEGIN:VEVENT
DTSTART;TZID=America/Denver:20200113T170000
DTEND;TZID=America/Denver:20200113T200000
DTSTAMP:20260425T221350
CREATED:20190731T212720Z
LAST-MODIFIED:20191014T194901Z
UID:10000378-1578934800-1578945600@citystarbrewing.com
SUMMARY:Summit Tacos
DESCRIPTION:Summit Tacos proudly serves authentic Mexican food and they love to share our passion for our food and our culture. Visit at 237 Collyer Street in Longmont and select food truck pop-ups. \nhttps://eatsummittacos.com
URL:https://citystarbrewing.com/event/summit-tacos/2020-01-13/
LOCATION:321 Mountain Avenue\, Berthoud\, CO\, 80513\, United States
CATEGORIES:Events,Food Trucks
ATTACH;FMTTYPE=image/png:https://citystarbrewing.com/wp-content/uploads/2017/05/summittacos.png
END:VEVENT
BEGIN:VEVENT
DTSTART;TZID=America/Denver:20200114T170000
DTEND;TZID=America/Denver:20200114T200000
DTSTAMP:20260425T221350
CREATED:20190731T212720Z
LAST-MODIFIED:20191014T194901Z
UID:10000379-1579021200-1579032000@citystarbrewing.com
SUMMARY:Summit Tacos
DESCRIPTION:Summit Tacos proudly serves authentic Mexican food and they love to share our passion for our food and our culture. Visit at 237 Collyer Street in Longmont and select food truck pop-ups. \nhttps://eatsummittacos.com
URL:https://citystarbrewing.com/event/summit-tacos/2020-01-14/
LOCATION:321 Mountain Avenue\, Berthoud\, CO\, 80513\, United States
CATEGORIES:Events,Food Trucks
ATTACH;FMTTYPE=image/png:https://citystarbrewing.com/wp-content/uploads/2017/05/summittacos.png
END:VEVENT
BEGIN:VEVENT
DTSTART;TZID=America/Denver:20200115T170000
DTEND;TZID=America/Denver:20200115T200000
DTSTAMP:20260425T221350
CREATED:20190731T212720Z
LAST-MODIFIED:20191014T194901Z
UID:10000380-1579107600-1579118400@citystarbrewing.com
SUMMARY:Summit Tacos
DESCRIPTION:Summit Tacos proudly serves authentic Mexican food and they love to share our passion for our food and our culture. Visit at 237 Collyer Street in Longmont and select food truck pop-ups. \nhttps://eatsummittacos.com
URL:https://citystarbrewing.com/event/summit-tacos/2020-01-15/
LOCATION:321 Mountain Avenue\, Berthoud\, CO\, 80513\, United States
CATEGORIES:Events,Food Trucks
ATTACH;FMTTYPE=image/png:https://citystarbrewing.com/wp-content/uploads/2017/05/summittacos.png
END:VEVENT
BEGIN:VEVENT
DTSTART;TZID=America/Denver:20200116T170000
DTEND;TZID=America/Denver:20200116T200000
DTSTAMP:20260425T221350
CREATED:20190731T212720Z
LAST-MODIFIED:20191014T194901Z
UID:10000381-1579194000-1579204800@citystarbrewing.com
SUMMARY:Summit Tacos
DESCRIPTION:Summit Tacos proudly serves authentic Mexican food and they love to share our passion for our food and our culture. Visit at 237 Collyer Street in Longmont and select food truck pop-ups. \nhttps://eatsummittacos.com
URL:https://citystarbrewing.com/event/summit-tacos/2020-01-16/
LOCATION:321 Mountain Avenue\, Berthoud\, CO\, 80513\, United States
CATEGORIES:Events,Food Trucks
ATTACH;FMTTYPE=image/png:https://citystarbrewing.com/wp-content/uploads/2017/05/summittacos.png
END:VEVENT
BEGIN:VEVENT
DTSTART;TZID=America/Denver:20200117T170000
DTEND;TZID=America/Denver:20200117T200000
DTSTAMP:20260425T221350
CREATED:20190731T212720Z
LAST-MODIFIED:20191014T194901Z
UID:10000382-1579280400-1579291200@citystarbrewing.com
SUMMARY:Summit Tacos
DESCRIPTION:Summit Tacos proudly serves authentic Mexican food and they love to share our passion for our food and our culture. Visit at 237 Collyer Street in Longmont and select food truck pop-ups. \nhttps://eatsummittacos.com
URL:https://citystarbrewing.com/event/summit-tacos/2020-01-17/
LOCATION:321 Mountain Avenue\, Berthoud\, CO\, 80513\, United States
CATEGORIES:Events,Food Trucks
ATTACH;FMTTYPE=image/png:https://citystarbrewing.com/wp-content/uploads/2017/05/summittacos.png
END:VEVENT
BEGIN:VEVENT
DTSTART;TZID=America/Denver:20200118T170000
DTEND;TZID=America/Denver:20200118T200000
DTSTAMP:20260425T221350
CREATED:20190731T212720Z
LAST-MODIFIED:20191014T194901Z
UID:10000383-1579366800-1579377600@citystarbrewing.com
SUMMARY:Summit Tacos
DESCRIPTION:Summit Tacos proudly serves authentic Mexican food and they love to share our passion for our food and our culture. Visit at 237 Collyer Street in Longmont and select food truck pop-ups. \nhttps://eatsummittacos.com
URL:https://citystarbrewing.com/event/summit-tacos/2020-01-18/
LOCATION:321 Mountain Avenue\, Berthoud\, CO\, 80513\, United States
CATEGORIES:Events,Food Trucks
ATTACH;FMTTYPE=image/png:https://citystarbrewing.com/wp-content/uploads/2017/05/summittacos.png
END:VEVENT
BEGIN:VEVENT
DTSTART;TZID=America/Denver:20200119T170000
DTEND;TZID=America/Denver:20200119T200000
DTSTAMP:20260425T221350
CREATED:20190731T212720Z
LAST-MODIFIED:20191014T194901Z
UID:10000384-1579453200-1579464000@citystarbrewing.com
SUMMARY:Summit Tacos
DESCRIPTION:Summit Tacos proudly serves authentic Mexican food and they love to share our passion for our food and our culture. Visit at 237 Collyer Street in Longmont and select food truck pop-ups. \nhttps://eatsummittacos.com
URL:https://citystarbrewing.com/event/summit-tacos/2020-01-19/
LOCATION:321 Mountain Avenue\, Berthoud\, CO\, 80513\, United States
CATEGORIES:Events,Food Trucks
ATTACH;FMTTYPE=image/png:https://citystarbrewing.com/wp-content/uploads/2017/05/summittacos.png
END:VEVENT
BEGIN:VEVENT
DTSTART;TZID=America/Denver:20200120T170000
DTEND;TZID=America/Denver:20200120T200000
DTSTAMP:20260425T221350
CREATED:20190731T212720Z
LAST-MODIFIED:20191014T194901Z
UID:10000385-1579539600-1579550400@citystarbrewing.com
SUMMARY:Summit Tacos
DESCRIPTION:Summit Tacos proudly serves authentic Mexican food and they love to share our passion for our food and our culture. Visit at 237 Collyer Street in Longmont and select food truck pop-ups. \nhttps://eatsummittacos.com
URL:https://citystarbrewing.com/event/summit-tacos/2020-01-20/
LOCATION:321 Mountain Avenue\, Berthoud\, CO\, 80513\, United States
CATEGORIES:Events,Food Trucks
ATTACH;FMTTYPE=image/png:https://citystarbrewing.com/wp-content/uploads/2017/05/summittacos.png
END:VEVENT
BEGIN:VEVENT
DTSTART;TZID=America/Denver:20200121T170000
DTEND;TZID=America/Denver:20200121T200000
DTSTAMP:20260425T221350
CREATED:20190731T212720Z
LAST-MODIFIED:20191014T194901Z
UID:10000386-1579626000-1579636800@citystarbrewing.com
SUMMARY:Summit Tacos
DESCRIPTION:Summit Tacos proudly serves authentic Mexican food and they love to share our passion for our food and our culture. Visit at 237 Collyer Street in Longmont and select food truck pop-ups. \nhttps://eatsummittacos.com
URL:https://citystarbrewing.com/event/summit-tacos/2020-01-21/
LOCATION:321 Mountain Avenue\, Berthoud\, CO\, 80513\, United States
CATEGORIES:Events,Food Trucks
ATTACH;FMTTYPE=image/png:https://citystarbrewing.com/wp-content/uploads/2017/05/summittacos.png
END:VEVENT
BEGIN:VEVENT
DTSTART;TZID=America/Denver:20200122T170000
DTEND;TZID=America/Denver:20200122T200000
DTSTAMP:20260425T221350
CREATED:20190731T212720Z
LAST-MODIFIED:20191014T194901Z
UID:10000387-1579712400-1579723200@citystarbrewing.com
SUMMARY:Summit Tacos
DESCRIPTION:Summit Tacos proudly serves authentic Mexican food and they love to share our passion for our food and our culture. Visit at 237 Collyer Street in Longmont and select food truck pop-ups. \nhttps://eatsummittacos.com
URL:https://citystarbrewing.com/event/summit-tacos/2020-01-22/
LOCATION:321 Mountain Avenue\, Berthoud\, CO\, 80513\, United States
CATEGORIES:Events,Food Trucks
ATTACH;FMTTYPE=image/png:https://citystarbrewing.com/wp-content/uploads/2017/05/summittacos.png
END:VEVENT
BEGIN:VEVENT
DTSTART;TZID=America/Denver:20200123T170000
DTEND;TZID=America/Denver:20200123T200000
DTSTAMP:20260425T221350
CREATED:20190731T212720Z
LAST-MODIFIED:20191014T194901Z
UID:10000388-1579798800-1579809600@citystarbrewing.com
SUMMARY:Summit Tacos
DESCRIPTION:Summit Tacos proudly serves authentic Mexican food and they love to share our passion for our food and our culture. Visit at 237 Collyer Street in Longmont and select food truck pop-ups. \nhttps://eatsummittacos.com
URL:https://citystarbrewing.com/event/summit-tacos/2020-01-23/
LOCATION:321 Mountain Avenue\, Berthoud\, CO\, 80513\, United States
CATEGORIES:Events,Food Trucks
ATTACH;FMTTYPE=image/png:https://citystarbrewing.com/wp-content/uploads/2017/05/summittacos.png
END:VEVENT
BEGIN:VEVENT
DTSTART;TZID=America/Denver:20200124T170000
DTEND;TZID=America/Denver:20200124T200000
DTSTAMP:20260425T221350
CREATED:20190731T212720Z
LAST-MODIFIED:20191014T194901Z
UID:10000389-1579885200-1579896000@citystarbrewing.com
SUMMARY:Summit Tacos
DESCRIPTION:Summit Tacos proudly serves authentic Mexican food and they love to share our passion for our food and our culture. Visit at 237 Collyer Street in Longmont and select food truck pop-ups. \nhttps://eatsummittacos.com
URL:https://citystarbrewing.com/event/summit-tacos/2020-01-24/
LOCATION:321 Mountain Avenue\, Berthoud\, CO\, 80513\, United States
CATEGORIES:Events,Food Trucks
ATTACH;FMTTYPE=image/png:https://citystarbrewing.com/wp-content/uploads/2017/05/summittacos.png
END:VEVENT
BEGIN:VEVENT
DTSTART;TZID=America/Denver:20200125T120000
DTEND;TZID=America/Denver:20200125T220000
DTSTAMP:20260425T221350
CREATED:20190117T230928Z
LAST-MODIFIED:20190808T212518Z
UID:10000181-1579953600-1579989600@citystarbrewing.com
SUMMARY:Beer Release: Luckpenny
DESCRIPTION:2020 Luckpenny beer style tbd. Luckpenny’s release coincides with the Chinese New Year… the Year of the Rat. Join in the celebration at City Star!
URL:https://citystarbrewing.com/event/beer-release-luckpenny/
LOCATION:321 Mountain Avenue\, Berthoud\, CO\, 80513\, United States
CATEGORIES:Beer Releases,Events
ATTACH;FMTTYPE=image/jpeg:https://citystarbrewing.com/wp-content/uploads/2017/01/luckpenny-release.jpg
END:VEVENT
BEGIN:VEVENT
DTSTART;TZID=America/Denver:20200125T170000
DTEND;TZID=America/Denver:20200125T200000
DTSTAMP:20260425T221350
CREATED:20190731T212720Z
LAST-MODIFIED:20191014T194901Z
UID:10000390-1579971600-1579982400@citystarbrewing.com
SUMMARY:Summit Tacos
DESCRIPTION:Summit Tacos proudly serves authentic Mexican food and they love to share our passion for our food and our culture. Visit at 237 Collyer Street in Longmont and select food truck pop-ups. \nhttps://eatsummittacos.com
URL:https://citystarbrewing.com/event/summit-tacos/2020-01-25/
LOCATION:321 Mountain Avenue\, Berthoud\, CO\, 80513\, United States
CATEGORIES:Events,Food Trucks
ATTACH;FMTTYPE=image/png:https://citystarbrewing.com/wp-content/uploads/2017/05/summittacos.png
END:VEVENT
BEGIN:VEVENT
DTSTART;TZID=America/Denver:20200125T170000
DTEND;TZID=America/Denver:20200125T220000
DTSTAMP:20260425T221350
CREATED:20190124T221916Z
LAST-MODIFIED:20190808T210815Z
UID:10000175-1579971600-1579989600@citystarbrewing.com
SUMMARY:Chinese New Year
DESCRIPTION:Celebrate the Chinese New Year at City Star! \nFun Fortune Cookies\nLuckpenny Beer Release\nFood Truck tbd \nIt’s the year of The Rat! The Rat is the first of all zodiac animals. According to one myth\, the Jade Emperor said the order would be decided by the order in which they arrived to his party. The Rat tricked the Ox into giving him a ride. Then\, just as they arrived at the finish line\, Rat jumped down and landed ahead of Ox\, becoming first. \nThe Rat is also associated with the Earthly Branch (地支—dì zhī) Zi (子) and the midnight hours. In the terms of yin and yang (阴阳—yīn yáng)\, the Rat is yang and represents the beginning of a new day. \nIn Chinese culture\, rats were seen as a sign of wealth and surplus. Because of their reproduction rate\, married couples also prayed to them for children.
URL:https://citystarbrewing.com/event/chinese-new-year/
LOCATION:321 Mountain Avenue\, Berthoud\, CO\, 80513\, United States
CATEGORIES:Events,Taproom Events
END:VEVENT
END:VCALENDAR