BEGIN:VCALENDAR
VERSION:2.0
PRODID:-//City Star Brewing - ECPv6.15.20//NONSGML v1.0//EN
CALSCALE:GREGORIAN
METHOD:PUBLISH
X-WR-CALNAME:City Star Brewing
X-ORIGINAL-URL:https://citystarbrewing.com
X-WR-CALDESC:Events for City Star Brewing
REFRESH-INTERVAL;VALUE=DURATION:PT1H
X-Robots-Tag:noindex
X-PUBLISHED-TTL:PT1H
BEGIN:VTIMEZONE
TZID:America/Denver
BEGIN:DAYLIGHT
TZOFFSETFROM:-0700
TZOFFSETTO:-0600
TZNAME:MDT
DTSTART:20240310T090000
END:DAYLIGHT
BEGIN:STANDARD
TZOFFSETFROM:-0600
TZOFFSETTO:-0700
TZNAME:MST
DTSTART:20241103T080000
END:STANDARD
BEGIN:DAYLIGHT
TZOFFSETFROM:-0700
TZOFFSETTO:-0600
TZNAME:MDT
DTSTART:20250309T090000
END:DAYLIGHT
BEGIN:STANDARD
TZOFFSETFROM:-0600
TZOFFSETTO:-0700
TZNAME:MST
DTSTART:20251102T080000
END:STANDARD
BEGIN:DAYLIGHT
TZOFFSETFROM:-0700
TZOFFSETTO:-0600
TZNAME:MDT
DTSTART:20260308T090000
END:DAYLIGHT
BEGIN:STANDARD
TZOFFSETFROM:-0600
TZOFFSETTO:-0700
TZNAME:MST
DTSTART:20261101T080000
END:STANDARD
END:VTIMEZONE
BEGIN:VEVENT
DTSTART;TZID=America/Denver:20251221T120000
DTEND;TZID=America/Denver:20251221T210000
DTSTAMP:20260422T025655
CREATED:20181129T222756Z
LAST-MODIFIED:20251215T215403Z
UID:4446-1766318400-1766350800@citystarbrewing.com
SUMMARY:Winter Solstice Party
DESCRIPTION:Join us for a special celebration on the shortest day of the year 12-9pm!  \n\nWe will be releasing our darkest beer of the year… Widow Maker imperial stout + variants on tap and in cans to-go. \n2025 commemorative glasses. \nHand made flower crowns from Bloem Beautiful \nYoga & Sound bath with Rebecca 11am-12pm\nAura Photos with House of Aura 12-7pm\nHair tinsel with Kassie 3-6pm\nTarot Card Readings 3-9pm\nPermanent Jewelry 5:30-9pm\nLive music 6-8:30pm\nFood Truck 12-8pm: The Taco Man\nStay tuned for more to come!
URL:https://citystarbrewing.com/event/winter-solstice-party/
CATEGORIES:Events,Taproom Events
ATTACH;FMTTYPE=image/png:https://citystarbrewing.com/wp-content/uploads/2018/11/solsticeEvent.png
END:VEVENT
END:VCALENDAR