BEGIN:VCALENDAR
VERSION:2.0
PRODID:-//City Star Brewing - ECPv6.15.20//NONSGML v1.0//EN
CALSCALE:GREGORIAN
METHOD:PUBLISH
X-WR-CALNAME:City Star Brewing
X-ORIGINAL-URL:https://citystarbrewing.com
X-WR-CALDESC:Events for City Star Brewing
REFRESH-INTERVAL;VALUE=DURATION:PT1H
X-Robots-Tag:noindex
X-PUBLISHED-TTL:PT1H
BEGIN:VTIMEZONE
TZID:America/Denver
BEGIN:DAYLIGHT
TZOFFSETFROM:-0700
TZOFFSETTO:-0600
TZNAME:MDT
DTSTART:20180311T090000
END:DAYLIGHT
BEGIN:STANDARD
TZOFFSETFROM:-0600
TZOFFSETTO:-0700
TZNAME:MST
DTSTART:20181104T080000
END:STANDARD
BEGIN:DAYLIGHT
TZOFFSETFROM:-0700
TZOFFSETTO:-0600
TZNAME:MDT
DTSTART:20190310T090000
END:DAYLIGHT
BEGIN:STANDARD
TZOFFSETFROM:-0600
TZOFFSETTO:-0700
TZNAME:MST
DTSTART:20191103T080000
END:STANDARD
BEGIN:DAYLIGHT
TZOFFSETFROM:-0700
TZOFFSETTO:-0600
TZNAME:MDT
DTSTART:20200308T090000
END:DAYLIGHT
BEGIN:STANDARD
TZOFFSETFROM:-0600
TZOFFSETTO:-0700
TZNAME:MST
DTSTART:20201101T080000
END:STANDARD
END:VTIMEZONE
BEGIN:VEVENT
DTSTART;TZID=America/Denver:20191001T180000
DTEND;TZID=America/Denver:20191001T193000
DTSTAMP:20260419T114614
CREATED:20230914T210022Z
LAST-MODIFIED:20230925T155413Z
UID:13766-1569952800-1569958200@citystarbrewing.com
SUMMARY:Spanish y Cervezas
DESCRIPTION:This class will be 6 weeks of 1.5 hour sessions covering the very basics of Spanish conversation\, reading\, and writing. Topics will be selected by and tailored to the group. The class is appropriate for very beginning learners. Cost is $250 and includes all supplies. Payment must be made in full by cash\, check\, or VenMo\, before the beginning of the course. Course fee is fully refundable up to one week prior to start date. Cancellations less than a week prior are refunded minus a 25% fee. No refunds will be made after the course start date. Space is limited and on a first-come\, first-served basis.\n\nThis course will run on Sundays\, October 1st – November 5\, 6:00 – 7:30pm at the Zoller Barrel Room in City Star Brewing. Sign up here.\nQuestions? Email leeanne@leeannesanders.com
URL:https://citystarbrewing.com/event/spanish-y-cervezas/
CATEGORIES:Events,Taproom Events
ATTACH;FMTTYPE=image/png:https://citystarbrewing.com/wp-content/uploads/2023/09/unnamed.png
END:VEVENT
END:VCALENDAR