BEGIN:VCALENDAR
VERSION:2.0
PRODID:-//City Star Brewing - ECPv6.15.20//NONSGML v1.0//EN
CALSCALE:GREGORIAN
METHOD:PUBLISH
X-WR-CALNAME:City Star Brewing
X-ORIGINAL-URL:https://citystarbrewing.com
X-WR-CALDESC:Events for City Star Brewing
REFRESH-INTERVAL;VALUE=DURATION:PT1H
X-Robots-Tag:noindex
X-PUBLISHED-TTL:PT1H
BEGIN:VTIMEZONE
TZID:America/Denver
BEGIN:DAYLIGHT
TZOFFSETFROM:-0700
TZOFFSETTO:-0600
TZNAME:MDT
DTSTART:20210314T090000
END:DAYLIGHT
BEGIN:STANDARD
TZOFFSETFROM:-0600
TZOFFSETTO:-0700
TZNAME:MST
DTSTART:20211107T080000
END:STANDARD
BEGIN:DAYLIGHT
TZOFFSETFROM:-0700
TZOFFSETTO:-0600
TZNAME:MDT
DTSTART:20220313T090000
END:DAYLIGHT
BEGIN:STANDARD
TZOFFSETFROM:-0600
TZOFFSETTO:-0700
TZNAME:MST
DTSTART:20221106T080000
END:STANDARD
BEGIN:DAYLIGHT
TZOFFSETFROM:-0700
TZOFFSETTO:-0600
TZNAME:MDT
DTSTART:20230312T090000
END:DAYLIGHT
BEGIN:STANDARD
TZOFFSETFROM:-0600
TZOFFSETTO:-0700
TZNAME:MST
DTSTART:20231105T080000
END:STANDARD
END:VTIMEZONE
BEGIN:VEVENT
DTSTART;TZID=America/Denver:20220204T180000
DTEND;TZID=America/Denver:20220204T203000
DTSTAMP:20260424T142959
CREATED:20200121T234724Z
LAST-MODIFIED:20220114T170338Z
UID:7561-1643997600-1644006600@citystarbrewing.com
SUMMARY:Lost Penny Duo
DESCRIPTION:Lost Penny originally formed as the duo\, Dahlby & Nadine\, born out of a local bluegrass jam in Estes Park\, Colorado. They discovered they had a similar drive to make music and write songs. The first time they blended their voices\, they knew they had a sound vibration that must be shared\, and a playful energy not to be contained. Their songwriting contains clever lyrics with irony and metaphor\, and their arrangement of old standards is refreshing. \nhttps://www.lostpennyband.com
URL:https://citystarbrewing.com/event/lost-penny/
LOCATION:CO
CATEGORIES:Events,Live Music
ATTACH;FMTTYPE=image/jpeg:https://citystarbrewing.com/wp-content/uploads/2020/01/LostPenny-e1642179801564.jpg
END:VEVENT
END:VCALENDAR