BEGIN:VCALENDAR
VERSION:2.0
PRODID:-//City Star Brewing - ECPv6.15.20//NONSGML v1.0//EN
CALSCALE:GREGORIAN
METHOD:PUBLISH
X-WR-CALNAME:City Star Brewing
X-ORIGINAL-URL:https://citystarbrewing.com
X-WR-CALDESC:Events for City Star Brewing
REFRESH-INTERVAL;VALUE=DURATION:PT1H
X-Robots-Tag:noindex
X-PUBLISHED-TTL:PT1H
BEGIN:VTIMEZONE
TZID:America/Denver
BEGIN:DAYLIGHT
TZOFFSETFROM:-0700
TZOFFSETTO:-0600
TZNAME:MDT
DTSTART:20180311T090000
END:DAYLIGHT
BEGIN:STANDARD
TZOFFSETFROM:-0600
TZOFFSETTO:-0700
TZNAME:MST
DTSTART:20181104T080000
END:STANDARD
BEGIN:DAYLIGHT
TZOFFSETFROM:-0700
TZOFFSETTO:-0600
TZNAME:MDT
DTSTART:20190310T090000
END:DAYLIGHT
BEGIN:STANDARD
TZOFFSETFROM:-0600
TZOFFSETTO:-0700
TZNAME:MST
DTSTART:20191103T080000
END:STANDARD
BEGIN:DAYLIGHT
TZOFFSETFROM:-0700
TZOFFSETTO:-0600
TZNAME:MDT
DTSTART:20200308T090000
END:DAYLIGHT
BEGIN:STANDARD
TZOFFSETFROM:-0600
TZOFFSETTO:-0700
TZNAME:MST
DTSTART:20201101T080000
END:STANDARD
END:VTIMEZONE
BEGIN:VEVENT
DTSTART;TZID=America/Denver:20191102T170000
DTEND;TZID=America/Denver:20191102T210000
DTSTAMP:20260419T160711
CREATED:20191017T211838Z
LAST-MODIFIED:20191101T181727Z
UID:7206-1572714000-1572728400@citystarbrewing.com
SUMMARY:Día de los Muertos Dinner
DESCRIPTION:Juli y Juan’s Kitchen returns for a collaboration with City Star Brewing to celebrate Day of the Dead. Juli and Juan are so passionate about their art you can actually taste the love! The exceptional creative fusion cuisine they design is further elevated by Juli y Juan’s infectious passion\, energy\, and love for what they do. \nThis 3 course dinner and beer pairing will be available throughout the evening of Saturday\, November 2nd at City Star Brewing. Complete the below form to reserve your pairing. Upon arrival check-in at the bar and receive tickets to pick-up each course directly from Juli y Juan in the brewery\, and then enjoy anywhere you like in the taproom. \n$35 Dinner (click to view the menu)\n$15 Beer Pairing (optional 3 x 10oz beers)\n*dinner and beer includes 7.7% tax\, excludes tip \nDía de los Muertos centers around remembering loved ones who have passed. You are welcome to dress up for the occasion (click for tips). Please contribute to our community altar/ofrenda in the Zoller Barrel House in memory and celebration of loved ones with photos and mementos. \nTHE MENU: \nAMOUSE BOUCHE\nMexican Picadita\nThin corn pattie stuffed with fried beans pan fried\, topped with cactus salad\, Mexican fresh cheese and sauces on the table. \nSTARTER\nCorn Soup\nSweet corn mix sautéed with butter\, deglazed with white wine\, blended and served with cilantro micro greens\, sour cream and a pinch of chile piquin \nMAIN COURSE\nCochinita Pibil\nBraised pork shoulder marinated in annatto seeds\, orange and lime juice\, cooked in banana leafs topped with pickled red onion. Served with habanero sauce\, corn tortillas and steamed rice. \nor \nRajas Poblanas\nRoasted poblano peppers\, sautéed with zucchini\, corn and onion\, with a touch of sour cream. Served with corn tortillas and steamed rice. \nDESSERT\nPan de Muerto\nOrange blossom scented Mexican sweet bread. \nVisit https://www.flipsnack.com/jarp80/diademuertosdinner-beer/full-view.html to view an interactive dinner menu and learn more about Juli y Juan \nRESERVATIONS: dinner reservations are closed but Juli y Juan are preparing extra food for walk-in service!
URL:https://citystarbrewing.com/event/dia-de-los-muertos/
LOCATION:321 Mountain Avenue\, Berthoud\, CO\, 80513\, United States
CATEGORIES:Events,Food Trucks,Taproom Events
ATTACH;FMTTYPE=image/png:https://citystarbrewing.com/wp-content/uploads/2019/10/diademuertos.png
END:VEVENT
END:VCALENDAR